BEGIN:VCALENDAR
VERSION:2.0
PRODID:-//wp-events-plugin.com//7.2.3.1//EN
BEGIN:VEVENT
UID:32@wildonce-hundetraining.at
DTSTART;TZID=Europe/Vienna:20250402T173000
DTEND;TZID=Europe/Vienna:20250402T190000
DTSTAMP:20250319T194814Z
URL:https://wildonce-hundetraining.at/termine/socialwalk/
SUMMARY:SocialWalk
DESCRIPTION:Was ist ein Social Walk? 🐕\n\nEin Social Walk ist ein gemein
 samer Spaziergang und bietet eine gute Möglichkeit\, um die Hunde an die 
 Anwesenheit anderer Hunde und Menschen zu gewöhnen. Die Menschen können 
 sich darin üben\, den Hund unter Ablenkung zu händeln und dabei sicherer
  werden.\n\nDabei kann\, je nach Trainingsstand\, das bereits gelernte unt
 er Ablenkung ausgebaut oder mittels angeleitetem Management am Spaziergang
  teilgenommen werden.\nEbenso werden wir kleine Übungen für z.B. Orienti
 erung\, Kooperation\, Impulskontrolle oder Frustrationstoleranz einbauen.\
 n\nWährend des gesamten Spaziergangs bleiben die Hunde an der Leine und e
 s wird auf ausreichend Abstand und Rücksichtnahme untereinander geachtet.
  Hunde die Themen mit Artgenossen oder Menschen haben sind zusätzlich mit
  Maulkorb zu sichern.\n\nOb der Hund pöbelt\, an der Leine zieht oder seh
 r aufgeregt ist - jeder Trainingsstand ist willkommen.\n\nTreffpunkt: Park
 platz Waldschwimmbad Barwies.\n\n(Bitte um Verständnis\, dass im Zuge des
  Spaziergangs keine Zeit für intensive Einzelberatung ist. Trotzdem stehe
  ich euch für Fragen und Hilfestellungen zur Verfügung.)
ATTACH;FMTTYPE=image/jpeg:https://wildonce-hundetraining.at/wp-content/upl
 oads/2025/03/PSX_20250319_204246.jpg
END:VEVENT
BEGIN:VTIMEZONE
TZID:Europe/Vienna
X-LIC-LOCATION:Europe/Vienna
BEGIN:DAYLIGHT
DTSTART:20250330T030000
TZOFFSETFROM:+0100
TZOFFSETTO:+0200
TZNAME:CEST
END:DAYLIGHT
END:VTIMEZONE
END:VCALENDAR